Workbook
Name acceptable_use_policy: Disclaimer!#REF!
Name general_tc: Disclaimer!$A$61
Name privacy_policy: Disclaimer!$A$136

Sheet Disclaimer
A1: Disclaimer - Important notices
A4: (i) The Product Information displayed on this Site has been uploaded by the Issuers of the relevant Products. None of the information displayed on this Site shall form the basis of any contract. Any User of this Site will be required to acknowledge that it has not relied on, or been induced to enter into any contract by, any representation or warranty.
A5: (ii) The Covered Bond Label Foundation has not independently verified the Product Information displayed on this Site. Accordingly, no representation, warranty or undertaking, express or implied, is made, and no responsibility is accepted, by the Covered Bond Label Foundation as to or in relation to the accuracy or completeness or otherwise of such Product Information."
A6: (iii) The information provided on or accessible through the Site is not intended for distribution to, or use by, any person or entity in any jurisdiction where such distribution or use would be contrary to local law, or which would subject us or any Issuer, to any authorisation, registration or other requirement within such jurisdiction. You agree not to use or export the information or materials available on or through this Site in violation of laws in your jurisdiction.
A8: TERMS OF USE
A9: This website www.coveredbondlabel.com (the "Site") is owned and operated by the Covered Bond Label Foundation (the Covered Bond Label Foundation together with its affiliates, "we" or "us") a Private Foundation (fondation privée / private stichting) registered in Belgium; whose registered office is at Rue de la Science 14 - 1040 Brussels - Belgium and registered under number 500.950.659 (RPR/RPM Brussels).
A10: The Site is intended for use as a directory of information relating to certain covered bond products ("Products") (the "Product Information") by an issuer of ("Issuer"), or potential investor in ("Investor"), such Products (an Issuer, Investor, or any other person accessing this Site, each a "User" or "you"). The Product Information is provided by each relevant Issuer, and remains at all times the sole responsibility of the relevant Issuer. We have not independently verified any Product Information, nor reviewed whether any Product for which information is available on the Site actually is a covered bond product. This Site or any label made available through it does not constitute, nor contain, any form of credit rating, any offer to sell (or the solicitation of an offer to purchase) any Product, nor does it constitute a recommendation, or investment advice (or any other type of advice) upon which reliance should be placed.
A11: These terms and conditions together with the documents referred to in them set out the terms of use ("T&Cs") on which (a) an Issuer; (b) Investor; or (c) any other User, may make use of the Site. Section A applies primarily to Investors, and Section B applies primarily to Issuers. The General T&Cs in Section C apply to all Users.
A12: Our Acceptable Use Policy and Privacy Policy are incorporated into these T&Cs.
A13: Please read the T&Cs carefully before you start to use the Site. By clicking 'Accept' you indicate that you accept these T&Cs and that you agree to abide by them.
A14: If any provision of these T&Cs shall be deemed unlawful, void or for any reason unenforceable, then that provision shall be deemed severable from these terms and shall not affect the validity and enforceability of any remaining provisions.
A16: SECTION A. INVESTOR T&Cs
... A169: If you have any questions about this policy, the collection and use of your personal information or other privacy-specific concerns please contact us by clicking on Contact Us .

Sheet Introduction
F5: Harmonised Transparency Template
D6: 2024 Version
F7: Denmark
F8: Danske Bank A/S
F9: ReportingDate:[31-10-2024]
F10: Cut-offDate:[30-09-2024]
F22: Index
D24: Worksheet A: HTT General | E24: Tab 1: Harmonised Transparency Template
D26: Worksheet B1: HTT Mortgage Assets
D28: Worksheet B2: HTT Public Sector Assets | E28: Tab 1: Harmonised Transparency Template
D30: Worksheet B3: HTT Shipping Assets | E30: Tab 1: Harmonised Transparency Template
D32: Worksheet C: HTT Harmonised Glossary | E32: Tab 1: Harmonised Transparency Template
D34: Covered Bond Label Disclaimer | E34: Tab 1: Harmonised Transparency Template
D36: Worksheet D & Onwards (If Any): National Transparency Template
D38: Worksheet E: Optional ECB-ECAIs data
D40: Worksheet F1: Sustainable M data | E40: Tab 1: Harmonised Transparency Template
D42: Worksheet G1. Crisis M Payment Holidays

Sheet A. HTT General
A1: A. Harmonised Transparency Template - General Information | F1: HTT 2024
B3: Reporting in Domestic Currency | C3: DKK
B5: CONTENT OF TAB A
B6: 1. Basic Facts
B7: 2. Regulatory Summary
B8: 3. General Cover Pool / Covered Bond Information | F8: `
B9: 4. Compliance Art 14 CBD Check Table
B10: 5. References to Capital Requirements Regulation (CRR) 129(1)
B11: 6. Other relevant information
A13: Field Number | B13: 1. Basic Facts
A14: G.1.1.1 | B14: Country | C14: Denmark
A15: G.1.1.2 | B15: Issuer Name | C15: Danske Bank A/S
A16: G.1.1.3 | B16: Labelled Cover Pool Name | C16: Cover pool C
A17: G.1.1.4 | B17: Link to Issuer's Website | C17: https://danskebank.com/investor-relations/debt/cover-pools
A18: G.1.1.5 | B18: Cut-off date | C18: 30-09-2024
A19: OG.1.1.2 | B19: Optional information e.g. Contact names
A20: OG.1.1.3 | B20: Optional information e.g. Parent name
A21: OG.1.1.4
A22: OG.1.1.5
A23: OG.1.1.6
A24: OG.1.1.7
A25: OG.1.1.8
B26: 2. Regulatory Summary
A27: G.2.1.1 | B27: Basel Compliance, subject to national jursdiction (Y/N) | C27: Y
A28: G.2.1.2 | B28: CBD Compliance | C28: Y | M28: Y
A29: G.2.1.3 | B29: CRR Compliance (Y/N) | C29: Y | M29: N
A30: OG.2.1.1 | B30: LCR status | C30: https://coveredbondlabel.com/issuer/2-danske-bank-a-s | M30: Non-EEA, Art 14 CBD compliant
A31: OG.2.1.2
A32: OG.2.1.3
A33: OG.2.1.4
A34: OG.2.1.5
A35: OG.2.1.6
B36: 3. General Cover Pool / Covered Bond Information
B37: 1.General Information | C37: Nominal (mn)
A38: G.3.1.1 | B38: Total Cover Assets | C38: 46826.53
A39: G.3.1.2 | B39: Outstanding Covered Bonds | C39: 37645
A40: OG.3.1.1 | B40: Cover Pool Size [NPV] (mn) | C40: 47047.66
A41: OG.3.1.2 | B41: Outstanding Covered Bonds [NPV] (mn) | C41: 38222.84
A42: OG.3.1.3
A43: OG.3.1.4
...

Sheet B1. HTT Mortgage Assets
A1: B1. Harmonised Transparency Template - Mortgage Assets | F1: HTT 2024
B3: Reporting in Domestic Currency | C3: DKK
B5: CONTENT OF TAB B1
B6: 7. Mortgage Assets
B7: 7.A Residential Cover Pool
B8: 7.B Commercial Cover Pool
A10: Field Number | B10: 7. Mortgage Assets
B11: 1. Property Type Information | C11: Nominal (mn) | F11: % Total Mortgages
A12: M.7.1.1 | B12: Residential | C12: 8622.92 | F12: =IF($C$15=0,"",IF(C12="[for completion]","",C12/$C$15)) -> 0.18414608
A13: M.7.1.2 | B13: Commercial | C13: 38203.6 | F13: =IF($C$15=0,"",IF(C13="[for completion]","",C13/$C$15)) -> 0.81585392
A14: M.7.1.3 | B14: Other | C14: 0 | F14: =IF($C$15=0,"",IF(C14="[for completion]","",C14/$C$15)) -> 0
A15: M.7.1.4 | B15: Total | C15: =SUM(C12:C14) -> 46826.52 | F15: =SUM(F12:F14) -> 1
A16: OM.7.1.1 | B16: o/w Housing Cooperatives / Multi-family assets | F16: =IF($C$15=0,"",IF(C16="[for completion]","",C16/$C$15)) -> 0
A17: OM.7.1.2 | B17: o/w Forest & Agriculture | F17: =IF($C$15=0,"",IF(C17="[for completion]","",C17/$C$15)) -> 0
A18: OM.7.1.3 | B18: o/w [If relevant, please specify] | F18: =IF($C$15=0,"",IF(C18="[for completion]","",C18/$C$15)) -> 0
A19: OM.7.1.4 | B19: o/w [If relevant, please specify] | F19: =IF($C$15=0,"",IF(C19="[for completion]","",C19/$C$15)) -> 0
A20: OM.7.1.5 | B20: o/w [If relevant, please specify] | F20: =IF($C$15=0,"",IF(C20="[for completion]","",C20/$C$15)) -> 0
A21: OM.7.1.6 | B21: o/w [If relevant, please specify] | F21: =IF($C$15=0,"",IF(C21="[for completion]","",C21/$C$15)) -> 0
A22: OM.7.1.7 | B22: o/w [If relevant, please specify] | F22: =IF($C$15=0,"",IF(C22="[for completion]","",C22/$C$15)) -> 0
A23: OM.7.1.8 | B23: o/w [If relevant, please specify] | F23: =IF($C$15=0,"",IF(C23="[for completion]","",C23/$C$15)) -> 0
A24: OM.7.1.9 | B24: o/w [If relevant, please specify] | F24: =IF($C$15=0,"",IF(C24="[for completion]","",C24/$C$15)) -> 0
A25: OM.7.1.10 | B25: o/w [If relevant, please specify] | F25: =IF($C$15=0,"",IF(C25="[for completion]","",C25/$C$15)) -> 0
A26: OM.7.1.11 | B26: o/w [If relevant, please specify] | F26: =IF($C$15=0,"",IF(C26="[for completion]","",C26/$C$15)) -> 0
B27: 2. General Information | C27: Residential Loans | D27: Commercial Loans | F27: Total Mortgages
A28: M.7.2.1 | B28: Number of mortgage loans | C28: 565 | D28: 3574 | F28: 4139
A29: OM.7.2.1 | B29: Optional information eg, Number of borrowers
A30: OM.7.2.2 | B30: Optional information eg, Number of guarantors
A31: OM.7.2.3
A32: OM.7.2.4
A33: OM.7.2.5
A34: OM.7.2.6
B35: 3. Concentration Risks | C35: % Residential Loans | D35: % Commercial Loans | F35: % Total Mortgages
A36: M.7.3.1 | B36: 10 largest exposures | C36: 0.018 | D36: 0.046 | F36: 0.064
A37: OM.7.3.1
A38: OM.7.3.2
A39: OM.7.3.3
A40: OM.7.3.4
A41: OM.7.3.5
A42: OM.7.3.6
B43: 4. Breakdown by Geography | C43: % Residential Loans | D43: % Commercial Loans | F43: % Total Mortgages
...

Sheet C. HTT Harmonised Glossary
A1: C. Harmonised Transparency Template - Glossary | C1: HTT 2024
A3: The definitions below reflect the national specificities
A5: Field Number | B5: 1. Glossary - Standard Harmonised Items | C5: Definition
A6: HG.1.1 | B6: OC Calculation: Statutory | C6: Statutory Overcollateralisation is the overcollateralisation percentage required to be provided by each Issuer and included/disclosed in the national covered bond framework.
A7: HG.1.2 | B7: OC Calculation: Contractual | C7: Contractual Overcollateralisation is the overcollateralisation percentage each Issuer has contractually agreed to maintain pursuant to the covered bond programme documents.
A8: HG.1.3 | B8: OC Calculation: Voluntary | C8: Voluntary Overcollateralisation is the difference (if positive) between the actual overcollateralisation provided by an Issuer and the higher of the contractual and statutory overcollateralisation.
A9: HG.1.4 | B9: Interest Rate Types | C9: Loans that have fixings longer than 1 year is categorized as fixed rate mortgages. Loans with fixings on 1 year or shorter is categorized as variable rate loans.
A10: HG.1.5 | B10: Residual Life Buckets of Cover assets [i.e. how is the contractual and/or expected residual life defined? What assumptions eg, in terms of prepayments? etc.] | C10: Only contractual maturity is relevant and reported. Early repayments happens at borrowes discretion and cannot be anticipated by issuer.
A11: HG.1.6 | B11: Maturity Buckets of Covered Bonds [i.e. how is the contractual and/or expected maturity defined? What maturity structure (hard bullet, soft bullet, conditional pass through)? Under what conditions/circumstances? Etc.] | C11: The contractual maturity date is reported without the soft bullet extension. The extended maturity is reported as contractual maturity plus one year for all bonds. The full terms and conditions for the maturity extensions are described in the Covered Bond Prospectus published on the Bank's webpage (see link below).
A12: HG.1.7 | B12: Maturity Extention Triggers | C12: https://danskebank.com/investor-relations/debt/funding-programmes?section=global-covered-bonds
A13: HG.1.8 | B13: LTVs: Definition | C13: LTV is reported continuously. The loans are distributed from the start ltv of the loan to the marginal ltv. This means that, if the loan is first rank, it is distributed proportionaly by bracket size from 0 to the marginal.
A14: HG.1.9 | B14: LTVs: Calculation of property/shipping value | C14: The LTV is calculated based current market value of the property.
A15: HG.1.10 | B15: LTVs: Applied property/shipping valuation techniques, including whether use of index, Automated Valuation Model (AVM) or on-site audits | C15: Market values are determined by AVM, desktop valuations and on-site audits depending on risk, property type and purpose.
A16: HG.1.11 | B16: LTVs: Frequency and time of last valuation | C16: Property valuations are performed minimum once pr. year.
... A20: HG.1.15 | B20: Valuation Method | C20: Real estate property is valued at market value. Loans and Bonds are reported on current notional unless stated differently.
A21: OHG.1.1 | B21: NPV assumptions (when stated)
A22: OHG.1.2
A23: OHG.1.3
A24: OHG.1.4
A25: OHG.1.5
A26: OHG.1.6
A27: OHG.1.7
B28: 2. Glossary - ESG items (optional) | C28: Definition
A29: HG.2.1 | B29: Sustainability - strategy pursued in the cover pool
A30: HG.2.2 | B30: Subsidised Housing (definitions of affordable, social housing)
A31: HG.2.3 | B31: New Property and Existing Property
A32: OHG.2.1 | B32: Indication of proxy usage for ESG-related data (indicator, methodology, timing, share of proxy usage for single indicators etc.)
A33: OHG.2.2 | B33: Explanation of table 20 - CO2 emission | C33: The ESG tables are in general filled out after best effort and data availability and future corrections to numbers and/or methodology might occur. The numbers are solely calculated for the purpose of giving a best effort estimate to readers of this report and might not be comparable with other reports.
A34: OHG.2.3 | B34: General Comments to ESG tables/data
A35: OHG.2.4
A36: OHG.2.5
A37: OHG.2.6
A38: OHG.2.7
A39: OHG.2.8
A40: OHG.2.9
A41: OHG.2.10
A42: OHG.2.11
A43: OHG.2.12
B44: 3. Reason for No Data | C44: Value
A45: HG.3.1 | B45: Not applicable for the jurisdiction | C45: ND1
...

Sheet D. NTT Frontpage

Sheet NTT Contents
B5: Danish National ECBC Label Template : Contents
B7: As of | D7: 45565
B10: Specialised finance institutes
B11: General Issuer Detail
B12: A | D12: General Issuer Detail
B14: Cover Pool Information
B15: G1.1 | D15: General cover pool information
B16: G2 | D16: Outstanding CBs
B17: G2.1a-f | D17: Cover assets and maturity structure
B18: G2.2 | D18: Interest and currency risk
B19: G3 | D19: Legal ALM (balance principle) adherence
B20: G4 | D20: Additional characteristics of ALM business model for issued CBs
B22: M1/B1 | D22: Number of loans by property category
B23: M2/B2 | D23: Lending by property category, DKKbn
B24: M3/B3 | D24: Lending, by loan size, DKKbn
B25: M4a/B4a | D25: Lending, by-loan to-value (LTV), current property value, DKKbn
B26: M4b/B4b | D26: Lending, by-loan to-value (LTV), current property value, Per cent
B27: M4c/B4c | D27: Lending, by-loan to-value (LTV), current property value, DKKbn ("Sidste krone")
... B39: M12a/B12a | D39: Realised losses (%)
B43: Ship finance institutes
B44: A | D44: General Issuer Detail
B45: G1-G4 | D45: Cover pool information
B46: S1-S3 | D46: Lending
B47: S4 | D47: LTV
B48: S5 | D48: Lending by region and ship type
B49: S6-S8 | D49: Lending by ship type
B50: S9-13 | D50: Lending (Classification Societies, Size of Ships, NPL definition)
B53: Key Concepts
B54: X1 | D54: Key Concepts Explanation
B55: X2 | D55: Key Concepts Explanation
B56: X3 | D56: General explanation

Sheet Tabel A - General Issuer Detail
B4: Table A. General Issuer Detail | C4: Optional for Banks
B5: Key information regarding issuers' balance sheet
B9: (DKKbn – except Tier 1 and Solvency ratio) | C9: Q2 202X | D9: Q1 202X | E9: Q4 202X | F9: Q3 202X
B10: Total Balance Sheet Assets
B11: Total Customer Loans(fair value)
B12: of which: Used/registered for covered bond collateral pool
B13: Tier 1 Ratio (%)
B14: Solvency Ratio (%)
B15: Outstanding Covered Bonds (fair value)
B16: Outstanding Senior Unsecured Liabilities
B17: Senior Secured Bonds
B18: Guarantees (e.g. provided by states, municipals, banks)
B19: Net loan losses (Net loan losses and net loan loss provisions)
B20: Value of acquired properties / ships (temporary possessions, end quarter)
B23: Customer loans (mortgage) (DKKbn)
... B42: Loan loss provisions (sum of total individual and group wise loss provisions, end of quarter)
F46: To Contents

Sheet G1-G4 - Cover pool inform.
B4: Table G1.1 – General cover pool information
B7: DKKbn / Percentage of nominal outstanding CBs | F7: ="Q3 2024" -> Q3 2024 | G7: ="Q2 2024" -> Q2 2024 | H7: ="Q1 2024" -> Q1 2024 | I7: ="Q4 2023" -> Q4 2023
B8: Nominal cover pool (total value) | F8: 46.83 | G8: 46.89 | H8: 41.65 | I8: 44.31
B10: Overcollateralisation | F10: 9.18 | G10: 8.61 | H10: 7.04 | I10: 9.04
B11: Overcollateralisation ratio | C11: Total | F11: 24.85 | G11: 24.02 | H11: 22.55 | I11: 25.64
C12: Mandatory (percentage of risk weigted assets,general, by law) | F12: 17.32 | G12: 17.28 | H12: 15.31 | I12: 18.48
B13: Nominal value of outstanding CBs | F13: 37.65 | G13: 38.28 | H13: 34.61 | I13: 35.22
C14: – hereof amount maturing 0-1 day
B15: Proceeds from senior secured debt
B16: Proceeds from senior unsecured debt
B17: Tier 2 capital
B18: Additional tier 1 capital (e.g. hybrid core capital)
B19: Core tier 1 capital invested in gilt-edged securities
B20: Total capital coverage (rating compliant capital)
B22: Loan loss provisions (cover pool level - shown i Table A on issuer level) - Optional
B24: Table G2 – Outstanding CBs
B26: DKKbn / Percentage of nominal outstanding CBs | F26: ="Q3 2024" -> Q3 2024 | G26: ="Q2 2024" -> Q2 2024 | H26: ="Q1 2024" -> Q1 2024 | I26: ="Q4 2023" -> Q4 2023
B27: Nominal value of outstanding CBs | F27: 37.65 | G27: 38.28 | H27: 34.61 | I27: 35.22
B28: Fair value of outstanding CBs (marked value) | F28: 38.22 | G28: 38.49 | H28: 34.64 | I28: 35.35
B29: Maturity of issued CBs
C30: 1 day – < 1 year
C31: 1 year
C32: > 1 and ≤ 2 years | F32: 7.46 | G32: 7.46 | H32: 7.46 | I32: 7.45
C33: > 2 and ≤ 3 years | F33: 7.46 | G33: 7.46 | H33: 7.46 | I33: 7.45
C34: > 3 and ≤ 4 years | F34: 13.23 | G34: 3.73 | H34: 3.73 | I34: 3.73
C35: > 4 and ≤ 5 years | F35: 9.5 | G35: 9.82 | H35: 9.58 | I35: 9.95
C36: 5-10 years | G36: 9.82 | H36: 6.39 | I36: 6.64
C37: 10-20 years
C38: > 20 years
B39: Amortisation profile of issued CBs | C39: Bullet
C40: Annuity
C41: Serial
B42: Interest rate profile of issued CBs | C42: Fixed rate (Fixed rate constant for more than 1 year) | F42: 0.5 | G42: 0.49 | H42: 0.54 | I42: 0.53
C43: Floating rate ( Floating rate constant for less than 1 year) | F43: 0.5 | G43: 0.51 | H43: 0.46 | I43: 0.47
C44: Capped floating rate
B45: Currency denomination profile of issued CBs | C45: DKK
C46: EUR | F46: 0.5 | G46: 0.49 | H46: 0.54 | I46: 0.53
C47: SEK
C48: CHF
C49: NOK | F49: 0.5 | G49: 0.51 | H49: 0.46 | I49: 0.47
...

Sheet Table 1-3 - Lending
K4: Reporting date | L4: 45565
B5: Property categories are defined according to Danish FSA's AS-reporting form
B7: Table M1/B1
B9: Number of loans by property category
C10: Owner-occupied homes | D10: Holiday houses | E10: Subsidised Housing | F10: Cooperative Housing | G10: Private rental | H10: Manufacturing and Manual Industries | I10: Office and Business | J10: Agriculture | K10: Social and cultural purposes | L10: Other | M10: Total
B11: Total | C11: 0 | D11: 0 | E11: 0 | F11: 125 | G11: 412 | H11: 945 | I11: 994 | J11: 1436 | K11: 154 | L11: 73 | M11: 4139
B12: In % | C12: 0 | D12: 0 | E12: 0 | F12: 3.02 | G12: 9.95 | H12: 22.83 | I12: 24.02 | J12: 34.69 | K12: 3.72 | L12: 1.76 | M12: 100
B14: Table M2/B2
B16: Lending by property category, DKKbn
C17: Owner-occupied homes | D17: Holiday houses | E17: Subsidised Housing | F17: Cooperative Housing | G17: Private rental | H17: Manufacturing and Manual Industries | I17: Office and Business | J17: Agriculture | K17: Social and cultural purposes | L17: Other | M17: Total
B18: Total | C18: 0 | D18: 0 | E18: 0 | F18: 1.46 | G18: 7.16 | H18: 8.49 | I18: 18.03 | J18: 7.47 | K18: 3.69 | L18: 0.5289 | M18: 46.83
B19: In % | C19: 0 | D19: 0 | E19: 0 | F19: 3.12 | G19: 15.29 | H19: 18.13 | I19: 38.51 | J19: 15.95 | K19: 7.87 | L19: 1.13 | M19: 100
B21: Table M3/B3
B23: Lending, by loan size, DKKbn
C25: DKK 0 - 2m | D25: DKK 2 - 5m | E25: DKK 5 - 20m | F25: DKK 20 - 50m | G25: DKK 50 - 100m | H25: > DKK 100m | I25: Total
B26: Total | C26: 1.31 | D26: 3.35 | E26: 11.87 | F26: 11.01 | G26: 7.93 | H26: 11.36 | I26: 46.83
B27: In % | C27: 2.79 | D27: 7.15 | E27: 25.35 | F27: 23.5 | G27: 16.94 | H27: 24.27 | I27: 100
B29: Table S1
B31: Number of loans by Ship Type
C32: Bulk Carriers | D32: LPG | E32: LNG | F32: Chemical Carriers | G32: Crude Oil Tankers | H32: Product Tankers | I32: Ferries/RO-RO | J32: Offshore Vessels | K32: Semi-submersible | L32: Container | M32: Other | N32: Total
B33: Total
B34: In %
B36: Table S2
B38: Lending by Ship Type, DKKbn
C39: Bulk Carriers | D39: LPG | E39: LNG | F39: Chemical Carriers | G39: Crude Oil Tankers | H39: Product Tankers | I39: Ferries/RO-RO | J39: Offshore Vessels | K39: Semi-submersible | L39: Container | M39: Other | N39: Total
B40: Total
B41: In %
B43: Table S3
B45: Lending, by loan size, DKKbn
C47: DKK 0 - 100m | D47: DKK 100 - 300m | E47: DKK 300 - 500m | F47: DKK 500 - 1.000m | G47: > DKK 1000m | H47: Total
B48: Total
B49: In %
N51: To Contents

Sheet Table 4 - LTV
B5: Table M4a/B4a
B7: Lending, by-loan to-value (LTV), current property value, DKKbn
C8: Per cent
C9: 0 - 19,9 | D9: 20 - 39,9 | E9: 40 - 59,9 | F9: 60 - 69,9 | G9: 70 - 79,9 | H9: 80 - 84,9 | I9: 85 - 89,9 | J9: 90 - 94,9 | K9: 95 - 100 | L9: > 100
B11: Owner-occupied homes | C11: 0 | D11: 0 | E11: 0 | F11: 0 | G11: 0 | H11: 0 | I11: 0 | J11: 0 | K11: 0 | L11: 0
B12: Holiday houses | C12: 0 | D12: 0 | E12: 0 | F12: 0 | G12: 0 | H12: 0 | I12: 0 | J12: 0 | K12: 0 | L12: 0
B13: Subsidised Housing | C13: 0 | D13: 0 | E13: 0 | F13: 0 | G13: 0 | H13: 0 | I13: 0 | J13: 0 | K13: 0 | L13: 0
B14: Cooperative Housing | C14: 0.9992 | D14: 0.4017 | E14: 0.0554 | F14: 0.0034 | G14: 0.0004 | H14: 0.0002 | I14: 0.0002 | J14: 0.0002 | K14: 0.0002 | L14: 0.0006
B15: Private rental | C15: 2.83 | D15: 2.42 | E15: 1.62 | F15: 0.2166 | G15: 0.048 | H15: 0.0061 | I15: 0.0045 | J15: 0.0022 | K15: 0.0012 | L15: 0.002
B16: Manufacturing and Manual Industries | C16: 3.65 | D16: 2.76 | E16: 1.5 | F16: 0.1853 | G16: 0.124 | H16: 0.0512 | I16: 0.0441 | J16: 0.0351 | K16: 0.0268 | L16: 0.1106
B17: Office and Business | C17: 7.94 | D17: 6.31 | E17: 3.33 | F17: 0.2594 | G17: 0.0875 | H17: 0.0249 | I17: 0.0195 | J17: 0.0153 | K17: 0.0124 | L17: 0.0308
B18: Agricultutal properties | C18: 3.67 | D18: 2.43 | E18: 1.17 | F18: 0.1566 | G18: 0.0339 | H18: 0.0056 | I18: 0.0037 | J18: 0.002 | K18: 0.0004 | L18: 0
B19: Properties for social and cultural purposes | C19: 1.52 | D19: 1.3 | E19: 0.7819 | F19: 0.07 | G19: 0.0193 | H19: 0.002 | I19: 0.0001 | J19: 0.0001 | K19: 0.0001 | L19: 0
B20: Other | C20: 0.2418 | D20: 0.1689 | E20: 0.0888 | F20: 0.0193 | G20: 0.0074 | H20: 0.0012 | I20: 0.001 | J20: 0.0005 | K20: 0 | L20: 0
B22: Total | C22: 20.85 | D22: 15.79 | E22: 8.55 | F22: 0.9106 | G22: 0.3205 | H22: 0.0912 | I22: 0.0731 | J22: 0.0554 | K22: 0.041 | L22: 0.144
B27: Table M4b/B4b
B29: Lending, by-loan to-value (LTV), current property value, per cent
C30: Per cent
C31: 0 - 19,9 | D31: 20 - 39,9 | E31: 40 - 59,9 | F31: 60 - 69,9 | G31: 70 - 79,9 | H31: 80 - 84,9 | I31: 85 - 89,9 | J31: 90 - 94,9 | K31: 95 - 100 | L31: > 100
B33: Owner-occupied homes | C33: 0 | D33: 0 | E33: 0 | F33: 0 | G33: 0 | H33: 0 | I33: 0 | J33: 0 | K33: 0 | L33: 0
B34: Holiday houses | C34: 0 | D34: 0 | E34: 0 | F34: 0 | G34: 0 | H34: 0 | I34: 0 | J34: 0 | K34: 0 | L34: 0
B35: Subsidised Housing | C35: 0 | D35: 0 | E35: 0 | F35: 0 | G35: 0 | H35: 0 | I35: 0 | J35: 0 | K35: 0 | L35: 0
B36: Cooperative Housing | C36: 0.0213 | D36: 0.0086 | E36: 0.0012 | F36: 0.0001 | G36: 0 | H36: 0 | I36: 0 | J36: 0 | K36: 0 | L36: 0
B37: Private rental | C37: 0.0605 | D37: 0.0518 | E37: 0.0347 | F37: 0.0046 | G37: 0.001 | H37: 0.0001 | I37: 0.0001 | J37: 0 | K37: 0 | L37: 0
B38: Manufacturing and Manual Industries | C38: 0.0779 | D38: 0.059 | E38: 0.0321 | F38: 0.004 | G38: 0.0026 | H38: 0.0011 | I38: 0.0009 | J38: 0.0007 | K38: 0.0006 | L38: 0.0024
B39: Office and Business | C39: 0.1699 | D39: 0.1347 | E39: 0.0711 | F39: 0.0055 | G39: 0.0019 | H39: 0.0005 | I39: 0.0004 | J39: 0.0003 | K39: 0.0003 | L39: 0.0007
B40: Agricultutal properties | C40: 0.0784 | D40: 0.052 | E40: 0.0249 | F40: 0.0033 | G40: 0.0007 | H40: 0.0001 | I40: 0.0001 | J40: 0 | K40: 0 | L40: 0
B41: Properties for social and cultural purposes | C41: 0.0324 | D41: 0.0277 | E41: 0.0167 | F41: 0.0015 | G41: 0.0004 | H41: 0 | I41: 0 | J41: 0 | K41: 0 | L41: 0
B42: Other | C42: 0.0052 | D42: 0.0036 | E42: 0.0019 | F42: 0.0004 | G42: 0.0002 | H42: 0 | I42: 0 | J42: 0 | K42: 0 | L42: 0
B44: Total | C44: 0.4453 | D44: 0.3373 | E44: 0.1825 | F44: 0.0194 | G44: 0.0068 | H44: 0.0019 | I44: 0.0016 | J44: 0.0012 | K44: 0.0009 | L44: 0.0031
B49: Table M4c/B4c
B51: Lending, by-loan to-value (LTV), current property value, DKKbn ("Sidste krone")
C52: Per cent
C53: 0 - 19,9 | D53: 20 - 39,9 | E53: 40 - 59,9 | F53: 60 - 69,9 | G53: 70 - 79,9 | H53: 80 - 84,9 | I53: 85 - 89,9 | J53: 90 - 94,9 | K53: 95 - 100 | L53: > 100 | N53: Avg. LTV
B55: Owner-occupied homes | C55: 0 | D55: 0 | E55: 0 | F55: 0 | G55: 0 | H55: 0 | I55: 0 | J55: 0 | K55: 0 | L55: 0 | N55: 0
B56: Holiday houses | C56: 0 | D56: 0 | E56: 0 | F56: 0 | G56: 0 | H56: 0 | I56: 0 | J56: 0 | K56: 0 | L56: 0 | N56: 0
B57: Subsidised Housing | C57: 0 | D57: 0 | E57: 0 | F57: 0 | G57: 0 | H57: 0 | I57: 0 | J57: 0 | K57: 0 | L57: 0 | N57: 0
B58: Cooperative Housing | C58: 0.2873 | D58: 0.8006 | E58: 0.3398 | F58: 0.0293 | G58: 0 | H58: 0 | I58: 0 | J58: 0 | K58: 0 | L58: 0.0045 | N58: 0.3178
B59: Private rental | C59: 0.2345 | D59: 0.7418 | E59: 3.74 | F59: 1.71 | G59: 0.6249 | H59: 0.0043 | I59: 0.0409 | J59: 0.0308 | K59: 0.0288 | L59: 0.0116 | N59: 0.5517
B60: Manufacturing and Manual Industries | C60: 0.4136 | D60: 1.36 | E60: 4.44 | F60: 0.946 | G60: 0.1634 | H60: 0.1151 | I60: 0.1444 | J60: 0.2072 | K60: 0.1969 | L60: 0.4953 | N60: 0.5585
...

Sheet Table 5 - Region - Ship type
B5: Table M5/B5 - Total
B7: Lending by region, DKKbn
C9: Greater Copenhagen area (Region Hovedstaden) | D9: Remaining Zealand & Bornholm (Region Sjælland) | E9: Northern Jutland (Region Nordjylland) | F9: Eastern Jutland (Region Midtjylland) | G9: Southern Jutland & Funen (Region Syddanmark) | H9: Outside Denmark | I9: Total
B11: Owner-occupied homes | H11: 0 | I11: 0
B12: Holiday houses | H12: 0 | I12: 0
B13: Subsidised Housing | H13: 0 | I13: 0
B14: Cooperative Housing | H14: 1.46 | I14: 1.46
B15: Private rental | H15: 7.16 | I15: 7.16
B16: Manufacturing and Manual Industries | H16: 8.49 | I16: 8.49
B17: Office and Business | H17: 18.03 | I17: 18.03
B18: Agricultutal properties | H18: 7.47 | I18: 7.47
B19: Properties for social and cultural purposes | H19: 3.69 | I19: 3.69
B20: Other | H20: 0.5289 | I20: 0.5289
B22: Total | H22: 46.83 | I22: 46.83
B25: Tables M5x below are distributed by issuer's choice. Must sum to column "Outside Denmark" in table M5
B27: Table M5a - Sweden
B29: Lending by region, DKKbn
C31: Stockholm | D31: Eastern Central | E31: Småland and islands | F31: South | G31: West | H31: North Central | I31: South Norrland
B33: Owner-occupied homes | C33: 0 | D33: 0 | E33: 0 | F33: 0 | G33: 0 | H33: 0 | I33: 0
B34: Holiday houses | C34: 0 | D34: 0 | E34: 0 | F34: 0 | G34: 0 | H34: 0 | I34: 0
B35: Subsidised Housing | C35: 0 | D35: 0 | E35: 0 | F35: 0 | G35: 0 | H35: 0 | I35: 0
B36: Cooperative Housing | C36: 0.2728 | D36: 0.0088 | E36: 0.0456 | F36: 0.0423 | G36: 0.0212 | H36: 0.0338 | I36: 0.1029
B37: Private rental | C37: 1.87 | D37: 0.2474 | E37: 0.8786 | F37: 0.8787 | G37: 0.7803 | H37: 0.2742 | I37: 0.5799
B38: Manufacturing and Manual Industries | C38: 0.7093 | D38: 0.6356 | E38: 0.4118 | F38: 0.8764 | G38: 0.6696 | H38: 0.4392 | I38: 1.47
B39: Office and Business | C39: 2.49 | D39: 1.93 | E39: 0.8009 | F39: 1 | G39: 1.04 | H39: 0.6154 | I39: 1.64
B40: Agricultutal properties | C40: 0.2813 | D40: 0.1008 | E40: 0.3966 | F40: 2.17 | G40: 1.14 | H40: 0.6226 | I40: 2.74
B41: Properties for social and cultural purposes | C41: 1.17 | D41: 0.3094 | E41: 0.145 | F41: 0.439 | G41: 0.3627 | H41: 0.0696 | I41: 0.3006
B42: Other | C42: 0.099 | D42: 0.0785 | E42: 0.0038 | F42: 0.027 | G42: 0.0177 | H42: 0.0472 | I42: 0.0852
B44: Total | C44: 6.89 | D44: 3.31 | E44: 2.68 | F44: 5.44 | G44: 4.03 | H44: 2.1 | I44: 6.92
B49: Table M5b - Norway
B51: Lending by region, DKKbn
C53: OSLO | D53: AGDER & ROGALAND | E53: VESTLAND, MØRE & ROMSDAL | F53: VESTFOLD, TELEMARK & VIKEN | G53: TRØNDELAG | H53: TROMS, FINNMARK & NORDLAND | I53: INNLANDET | J53: ØSTFOLD, AKERSHUS, BUSKERUD
B55: Owner-occupied homes | C55: 0 | D55: 0 | E55: 0 | F55: 0 | G55: 0 | H55: 0 | I55: 0 | J55: 0
B56: Holiday houses | C56: 0 | D56: 0 | E56: 0 | F56: 0 | G56: 0 | H56: 0 | I56: 0 | J56: 0
B57: Subsidised Housing | C57: 0 | D57: 0 | E57: 0 | F57: 0 | G57: 0 | H57: 0 | I57: 0 | J57: 0
B58: Cooperative Housing | C58: 0.1048 | D58: 0.1241 | E58: 0.2241 | F58: 0 | G58: 0.4087 | H58: 0.0481 | I58: 0 | J58: 0.024161734
B59: Private rental | C59: 0.5128 | D59: 0.1134 | E59: 0.2113 | F59: 0.0698 | G59: 0.2 | H59: 0.2624 | I59: 0.0044 | J59: 0.28
B60: Manufacturing and Manual Industries | C60: 0.0211 | D60: 0.5632 | E60: 0.7249 | F60: 0.2957 | G60: 0.5568 | H60: 0.509 | I60: 0.0534 | J60: 0.54
B61: Office and Business | C61: 2.22 | D61: 0.7638 | E61: 0.9034 | F61: 0.2638 | G61: 1.28 | H61: 0.3255 | I61: 0.1174 | J61: 2.6421547
B62: Agricultutal properties | C62: 0 | D62: 0 | E62: 0 | F62: 0 | G62: 0.0148 | H62: 0.0005 | I62: 0 | J62: 0.0010548118
...

Sheet Table 6-8 - Lending by loan
B5: Table M6/B6
B6: Lending by loan type - IO Loans, DKKbn
C8: Owner-occupied homes | D8: Holiday houses | E8: Subsidised Housing | F8: Cooperative Housing | G8: Private rental | H8: Manufacturing and Manual Industries | I8: Office and Business | J8: Agriculture | K8: Social and cultural purposes | L8: Other | M8: Total
B9: Index Loans | C9: 0 | D9: 0 | E9: 0 | F9: 0 | G9: 0 | H9: 0 | I9: 0 | J9: 0 | K9: 0 | L9: 0 | M9: 0
B10: Fixed-rate to maturity | C10: 0 | D10: 0 | E10: 0 | F10: 0 | G10: 0 | H10: 0 | I10: 0 | J10: 0 | K10: 0 | L10: 0 | M10: 0
B11: Fixed-rate shorter period than maturity (ARM's etc.) | C11: 0 | D11: 0 | E11: 0 | F11: 0 | G11: 0 | H11: 0 | I11: 0 | J11: 0 | K11: 0 | L11: 0 | M11: 0
B12: - rate fixed ≤ 1 year | C12: 0 | D12: 0 | E12: 0 | F12: 0.6319 | G12: 3.37 | H12: 1.35 | I12: 5.11 | J12: 3.42 | K12: 0.2326 | L12: 0.1676 | M12: 14.28
B13: - rate fixed > 1 and ≤ 3 years | C13: 0 | D13: 0 | E13: 0 | F13: 0 | G13: 0 | H13: 0 | I13: 0 | J13: 0 | K13: 0 | L13: 0 | M13: 0
B14: - rate fixed > 3 and ≤ 5 years | C14: 0 | D14: 0 | E14: 0 | F14: 0 | G14: 0 | H14: 0 | I14: 0 | J14: 0 | K14: 0 | L14: 0 | M14: 0
B15: - rate fixed > 5 years | C15: 0 | D15: 0 | E15: 0 | F15: 0 | G15: 0 | H15: 0 | I15: 0 | J15: 0 | K15: 0 | L15: 0 | M15: 0
B16: Money market based loans | C16: 0 | D16: 0 | E16: 0 | F16: 0 | G16: 0 | H16: 0 | I16: 0 | J16: 0 | K16: 0 | L16: 0 | M16: 0
B17: - Non Capped floaters | C17: 0 | D17: 0 | E17: 0 | F17: 0 | G17: 0 | H17: 0 | I17: 0 | J17: 0 | K17: 0 | L17: 0 | M17: 0
B18: - Capped floaters | C18: 0 | D18: 0 | E18: 0 | F18: 0 | G18: 0 | H18: 0 | I18: 0 | J18: 0 | K18: 0 | L18: 0 | M18: 0
B19: Other | C19: 0 | D19: 0 | E19: 0 | F19: 0 | G19: 0 | H19: 0 | I19: 0 | J19: 0 | K19: 0 | L19: 0 | M19: 0
B20: Total | C20: 0 | D20: 0 | E20: 0 | F20: 0.6319 | G20: 3.37 | H20: 1.35 | I20: 5.11 | J20: 3.42 | K20: 0.2326 | L20: 0.1676 | M20: 14.28
B21: *Interest-only loans at time of compilation. Interest-only is typically limited to a maximum of 10 years
B25: Table M7/B7
B26: Lending by loan type - Repayment Loans / Amortizing Loans, DKKbn
C28: Owner-occupied homes | D28: Holiday houses | E28: Subsidised Housing | F28: Cooperative Housing | G28: Private rental | H28: Manufacturing and Manual Industries | I28: Office and Business | J28: Agriculture | K28: Social and cultural purposes | L28: Other | M28: Total
B29: Index Loans | C29: 0 | D29: 0 | E29: 0 | F29: 0 | G29: 0 | H29: 0 | I29: 0 | J29: 0 | K29: 0 | L29: 0 | M29: 0
B30: Fixed-rate to maturity | C30: 0 | D30: 0 | E30: 0 | F30: 0 | G30: 0 | H30: 0 | I30: 0 | J30: 0 | K30: 0 | L30: 0 | M30: 0
B31: Fixed-rate shorter period than maturity (ARM's etc.) | C31: 0 | D31: 0 | E31: 0 | F31: 0 | G31: 0 | H31: 0 | I31: 0 | J31: 0 | K31: 0 | L31: 0 | M31: 0
B32: - rate fixed ≤ 1 year | C32: 0 | D32: 0 | E32: 0 | F32: 0.8296 | G32: 3.79 | H32: 7.14 | I32: 12.93 | J32: 4.05 | K32: 3.45 | L32: 0.3613 | M32: 32.55
B33: - rate fixed > 1 and ≤ 3 years | C33: 0 | D33: 0 | E33: 0 | F33: 0 | G33: 0 | H33: 0 | I33: 0 | J33: 0 | K33: 0 | L33: 0 | M33: 0
B34: - rate fixed > 3 and ≤ 5 years | C34: 0 | D34: 0 | E34: 0 | F34: 0 | G34: 0 | H34: 0 | I34: 0 | J34: 0 | K34: 0 | L34: 0 | M34: 0
B35: - rate fixed > 5 years | C35: 0 | D35: 0 | E35: 0 | F35: 0 | G35: 0 | H35: 0 | I35: 0 | J35: 0 | K35: 0 | L35: 0 | M35: 0
B36: Money market based loans | C36: 0 | D36: 0 | E36: 0 | F36: 0 | G36: 0 | H36: 0 | I36: 0 | J36: 0 | K36: 0 | L36: 0 | M36: 0
B37: Non Capped floaters | C37: 0 | D37: 0 | E37: 0 | F37: 0 | G37: 0 | H37: 0 | I37: 0 | J37: 0 | K37: 0 | L37: 0 | M37: 0
B38: Capped floaters | C38: 0 | D38: 0 | E38: 0 | F38: 0 | G38: 0 | H38: 0 | I38: 0 | J38: 0 | K38: 0 | L38: 0 | M38: 0
B39: Other | C39: 0 | D39: 0 | E39: 0 | F39: 0 | G39: 0 | H39: 0 | I39: 0 | J39: 0 | K39: 0 | L39: 0 | M39: 0
B40: Total | C40: 0 | D40: 0 | E40: 0 | F40: 0.8296 | G40: 3.79 | H40: 7.14 | I40: 12.93 | J40: 4.05 | K40: 3.45 | L40: 0.3613 | M40: 32.55
B45: Table M8/B8
B46: Lending by loan type - All loans, DKKbn
C48: Owner-occupied homes | D48: Holiday houses | E48: Subsidised Housing | F48: Cooperative Housing | G48: Private rental | H48: Manufacturing and Manual Industries | I48: Office and Business | J48: Agriculture | K48: Social and cultural purposes | L48: Other | M48: Total
B49: Index Loans | C49: 0 | D49: 0 | E49: 0 | F49: 0 | G49: 0 | H49: 0 | I49: 0 | J49: 0 | K49: 0 | L49: 0 | M49: 0
B50: Fixed-rate to maturity | C50: 0 | D50: 0 | E50: 0 | F50: 0 | G50: 0 | H50: 0 | I50: 0 | J50: 0 | K50: 0 | L50: 0 | M50: 0
B51: Fixed-rate shorter period than maturity (ARM's etc.) | C51: 0 | D51: 0 | E51: 0 | F51: 0 | G51: 0 | H51: 0 | I51: 0 | J51: 0 | K51: 0 | L51: 0 | M51: 0
B52: - rate fixed ≤ 1 year | C52: 0 | D52: 0 | E52: 0 | F52: 1.46 | G52: 7.16 | H52: 8.49 | I52: 18.03 | J52: 7.47 | K52: 3.69 | L52: 0.5289 | M52: 46.83
B53: - rate fixed > 1 and ≤ 3 years | C53: 0 | D53: 0 | E53: 0 | F53: 0 | G53: 0 | H53: 0 | I53: 0 | J53: 0 | K53: 0 | L53: 0 | M53: 0
B54: - rate fixed > 3 and ≤ 5 years | C54: 0 | D54: 0 | E54: 0 | F54: 0 | G54: 0 | H54: 0 | I54: 0 | J54: 0 | K54: 0 | L54: 0 | M54: 0
...

Sheet Table 9-13 - Lending
B5: Table M9/B9
B6: Lending by Seasoning, DKKbn (Seasoning defined by duration of customer relationship)
C8: Owner-occupied homes | D8: Holiday houses | E8: Subsidised Housing | F8: Cooperative Housing | G8: Private rental | H8: Manufacturing and Manual Industries | I8: Office and Business | J8: Agriculture | K8: Social and cultural purposes | L8: Other | M8: Total
B9: < 12 months | C9: 0 | D9: 0 | E9: 0 | F9: 0.584 | G9: 3.74 | H9: 3.46 | I9: 8.03 | J9: 3.31 | K9: 2.25 | L9: 0.1098 | M9: 21.48
B10: ≥ 12 - ≤ 24 months | C10: 0 | D10: 0 | E10: 0 | F10: 0.1815 | G10: 1.65 | H10: 2.35 | I10: 3.66 | J10: 2.35 | K10: 0.7796 | L10: 0.2348 | M10: 11.21
B11: ≥ 24 - ≤ 36 months | C11: 0 | D11: 0 | E11: 0 | F11: 0.1725 | G11: 0.7781 | H11: 1.8 | I11: 4.14 | J11: 1.27 | K11: 0.5821 | L11: 0.0939 | M11: 8.83
B12: ≥ 36 - ≤ 60 months | C12: 0 | D12: 0 | E12: 0 | F12: 0.2684 | G12: 0.5436 | H12: 0.4942 | I12: 1.26 | J12: 0.4303 | K12: 0.0565 | L12: 0.0676 | M12: 3.13
B13: ≥ 60 months | C13: 0 | D13: 0 | E13: 0 | F13: 0.2552 | G13: 0.445 | H13: 0.3907 | I13: 0.9443 | J13: 0.1127 | K13: 0.0185 | L13: 0.0228 | M13: 2.19
B14: Total | C14: 0 | D14: 0 | E14: 0 | F14: 1.46 | G14: 7.16 | H14: 8.49 | I14: 18.03 | J14: 7.47 | K14: 3.69 | L14: 0.5289 | M14: 46.83
B19: Table M10/B10
B20: Lending by remaining maturity, DKKbn
C22: Owner-occupied homes | D22: Holiday houses | E22: Subsidised Housing | F22: Cooperative Housing | G22: Private rental | H22: Manufacturing and Manual Industries | I22: Office and Business | J22: Agriculture | K22: Social and cultural purposes | L22: Other | M22: Total
B23: < 1 Years | C23: 0 | D23: 0 | E23: 0 | F23: 0.6565 | G23: 3.18 | H23: 3.03 | I23: 6.8 | J23: 1.99 | K23: 1.58 | L23: 0.2411 | M23: 17.47
B24: ≥ 1 - ≤ 3 Years | C24: 0 | D24: 0 | E24: 0 | F24: 0.4001 | G24: 3.17 | H24: 3.9 | I24: 9.66 | J24: 1.83 | K24: 1.57 | L24: 0.1575 | M24: 20.69
B25: ≥ 3 - ≤ 5 Years | C25: 0 | D25: 0 | E25: 0 | F25: 0.1641 | G25: 0.3851 | H25: 0.2411 | I25: 0.4539 | J25: 0.3449 | K25: 0.0382 | L25: 0.0197 | M25: 1.65
B26: ≥ 5 - ≤ 10 Years | C26: 0 | D26: 0 | E26: 0 | F26: 0.003 | G26: 0.043 | H26: 0.2307 | I26: 0.1313 | J26: 1.26 | K26: 0.2089 | L26: 0.0166 | M26: 1.9
B27: ≥ 10 - ≤ 20 Years | C27: 0 | D27: 0 | E27: 0 | F27: 0.134 | G27: 0.0715 | H27: 0.5671 | I27: 0.3723 | J27: 0.6407 | K27: 0.018 | L27: 0.0719 | M27: 1.88
B28: ≥ 20 Years | C28: 0 | D28: 0 | E28: 0 | F28: 0.1038 | G28: 0.3094 | H28: 0.5182 | I28: 0.6151 | J28: 1.4 | K28: 0.2712 | L28: 0.0221 | M28: 3.24
B29: Total | C29: 0 | D29: 0 | E29: 0 | F29: 1.46 | G29: 7.16 | H29: 8.49 | I29: 18.03 | J29: 7.47 | K29: 3.69 | L29: 0.5289 | M29: 46.83
B34: Table M11/B11
B35: 90 day Non-performing loans by property type, as percentage of total payments, %
C37: Owner-occupied homes | D37: Holiday houses | E37: Subsidised Housing | F37: Cooperative Housing | G37: Private rental | H37: Manufacturing and Manual Industries | I37: Office and Business | J37: Agriculture | K37: Social and cultural purposes | L37: Other | M37: Total
B38: 90 day NPL
B39: Note: 90-days arrear as of Q1 2013 (See definition in table X1)
B44: Table M11a/B11a
B45: 90 day Non-performing loans by property type, as percentage of lending, %
C47: Owner-occupied homes | D47: Holiday houses | E47: Subsidised Housing | F47: Cooperative Housing | G47: Private rental | H47: Manufacturing and Manual Industries | I47: Office and Business | J47: Agriculture | K47: Social and cultural purposes | L47: Other | M47: Total
B48: 90 day NPL
B49: Note: 90-days arrear as of Q1 2013 (See definition in table X1)
B54: Table M11b/B11b
B55: 90 day Non-performing loans by property type, as percentage of lending, by continous LTV bracket, %
C57: Owner-occupied homes | D57: Holiday houses | E57: Subsidised Housing | F57: Cooperative Housing | G57: Private rental | H57: Manufacturing and Manual Industries | I57: Office and Business | J57: Agriculture | K57: Social and cultural purposes | L57: Other | M57: Total
B58: < 60per cent LTV | C58: xx,x | D58: xx,x | E58: xx,x | F58: xx,x | G58: xx,x | H58: xx,x | I58: xx,x | J58: xx,x | K58: xx,x | L58: xx,x | M58: xx,x
B59: 60-69.9 per cent LTV | C59: xx,x | D59: xx,x | E59: xx,x | F59: xx,x | G59: xx,x | H59: xx,x | I59: xx,x | J59: xx,x | K59: xx,x | L59: xx,x | M59: xx,x
B60: 70-79.9 per cent LTV | C60: xx,x | D60: xx,x | E60: xx,x | F60: xx,x | G60: xx,x | H60: xx,x | I60: xx,x | J60: xx,x | K60: xx,x | L60: xx,x | M60: xx,x
B61: 80-89.9 per cent LTV | C61: xx,x | D61: xx,x | E61: xx,x | F61: xx,x | G61: xx,x | H61: xx,x | I61: xx,x | J61: xx,x | K61: xx,x | L61: xx,x | M61: xx,x
B62: 90-100 per cent LTV | C62: xx,x | D62: xx,x | E62: xx,x | F62: xx,x | G62: xx,x | H62: xx,x | I62: xx,x | J62: xx,x | K62: xx,x | L62: xx,x | M62: xx,x
B63: >100 per cent LTV | C63: xx,x | D63: xx,x | E63: xx,x | F63: xx,x | G63: xx,x | H63: xx,x | I63: xx,x | J63: xx,x | K63: xx,x | L63: xx,x | M63: xx,x
B68: Table M12/B12
B69: Realised losses (DKKm)
...

Sheet X1 Key Concepts
B7: Table X1
B8: Key Concepts Explanation | C8: General practice in Danish market | D8: If issuers Key Concepts Explanation differs from general practice: State and explain in this column.
B10: Residential versus commercial mortgages
B11: Description of the difference made between residential/owner occupied and commercial properties | C11: The Danish FSA sets guidelines for the grouping of property in categories. Property type is determined by its primary use.
C13: Property which primary purpose is owner occupation is characterised as residential. Whereas properties primarily used for commercial purposes are classified as commercial (cf. below).
B14: Describe when you classify a property as commercial? | C14: The Danish FSA sets guidelines for the grouping of property in categories. Examples of application of which classifies property as commercial are:
C15: · Office
B16: E.g.: Private rental, Manufacturing and Manual Industries, Offices and Business, Agriculture. | C16: · Retail/shop
C17: · Warehouse
C18: · Restaurants, inns etc.
C19: · Hotels and resorts
C20: · Congress and conference centres.
C21: · Campsites.
C22: · Traffic terminals, service stations, fire stations, auction and export houses.
C23: · Agriculture
C24: · Forestry
C25: · Nurseries
C26: · Ships
B28: NPL (Non-performing loans)
B29: Describe how you define NPLs | C29: A loan is categorised as non-performing when a borrower neglects a payment failing to pay instalments and / or interests.
C31: The NPL rate is calculated at different time periods after the original payment date. Standard in Table A is 90 day arrear.
C33: Commercial bank CB issuers adhere to the Basel definition of NPL.
B34: Explain how you distinguish between performing and nonperforming loans in the cover pool? | C34: No distinction made. Asset substitution i not allowed for specialised mortgage banks.
C36: The Basel definition of NPL’s is applied for commercial bank CB issuers
B37: Are NPLs parts of eligible assets in cover pool? Are NPL parts of non eligible assets in cover pool? | C37: Asset substitution i not allowed for specialised mortgage banks, hence NPLs are part of the cover pool.
C39: For commercial bank CB issuers NPL’s are eligible assets in the cover pool.
B40: Are loans in foreclosure procedure part of eligible assets in cover pool? | C40: Asset substitution i not allowed for specialised mortgage banks, hence loans in foreclosure are part of the cover pool.
C42: For commercial bank CB issuers loans in foreclosure procedure are eligible assets in the cover pool.
B43: If NPL and/or loans in foreclosure procedure are part of the covered pool which provisions are made in respect of the value of these loans in the cover pool? | C43: The Danish FSA set rules for loss provisioning. In case of objective evidence of impairment provisioning for loss must be made.
D45: To Contents

Sheet X2 Key Concepts
B3: Table X2
B4: Key Concepts Explanation | C4: Issuer specific
C5: (N/A for some issuers)
B7: Guaranteed loans (if part of the cover pool)
B8: How are the loans guaranteed?
B9: Please provide details of guarantors
B11: Loan-to-Value (LTV) | C11: Legal framework for valuation and LTV-calculation follow the rules of the Danish FSA - Bekendtgørelse nr. 687 af 20. juni 2007
B12: Describe the method on which your LTV calculation is based | C12: The publication contains two different ways to monitor LTV. One where loans are distributed continuously and one where they are distributed discretely. In both tables the fair value of the loans are distributed into predefined LTV bracket intervals. Table M4a/b4a and M4b/B4b displays the loans continuously. Table M4c/B4c and M4d/B4d displays the loans discretely. The continuous table(M4a/b4a and M4b/B4b) distributes the loans from the start ltv of the loan to the marginal ltv. This means that, if the loan is first rank, it is distributed proportionaly by bracket size from 0 to the marginal ltv into the predefined brackets. If the loans has prior liens, it is distributed from the marginal ltv of the prior liens to the marginal ltv of the loan under consideration. The discrete table (M4c/b4c and M4d/B4d) distributes the total fair value of each loan into a single ltv bracket, according to the marginal ltv of the loan under consideration. Average LTV is weighted by loan balance categorised by property type. Example 1a below shows a case where the loan is first rank and distributed continuously. Example 1b shows the case where the loans has prior liens and distributed continuously. Example 2 below shows the discrete distribution of a loan.
B15: Frequency of collateral valuation for the purpose of calculating the LTV | C15: Example 1a
C17: Explanation
C18: Example of a proportionaly distribution into LTV brackets for a loan with LTV of 75 pct and a loan size of 1 million and no prior liens.
D20: Loan-to-value (distribution continuously)
C22: 0-19.9 | D22: 20-39.9 | E22: 40-59.9 | F22: 60-69.9 | G22: 70-79.9 | H22: 80-84.9 | I22: 85-89.9 | J22: 90-94.9 | K22: 95-100 | L22: >100
C23: 266666.67 | D23: 266666.67 | E23: 266666.67 | F23: 133333.33 | G23: 66666.67 | H23: - | I23: - | J23: - | K23: - | L23: -
C27: Example 1b
C29: Explanation
C30: Example of a continuous distribution into LTV brackets for a loan with LTV of 75 and a loan size of 1 million
C31: with prior liens consisting of a loan with a LTV of 40 pct.
D33: Loan-to-value (distribution continuously)
C35: 0-19.9 | D35: 20-39.9 | E35: 40-59.9 | F35: 60-69.9 | G35: 70-79.9 | H35: 80-84.9 | I35: 85-89.9 | J35: 90-94.9 | K35: 95-100 | L35: >100
C36: - | D36: - | E36: 571428.57 | F36: 285714.29 | G36: 142857.14 | H36: - | I36: - | J36: - | K36: - | L36: -
C39: Example 2
C41: Explanation
C42: Example of discrete ("Sidste krone") distribution into LTV brackets for a loan with LTV of 75 and a loan size of 1 million
C43: In this example the 1.000.000 is distributed into the 70-79.9 interval because the LTV of the total loan is 75
D47: Loan-to-value (discrete/"Sidste krone" distribution)
C49: 0-19.9 | D49: 20-39.9 | E49: 40-59.9 | F49: 60-69.9 | G49: 70-79.9 | H49: 80-84.9 | I49: 85-89.9 | J49: 90-94.9 | K49: 95-100 | L49: >100
C50: - | D50: - | E50: - | F50: - | G50: 1000000 | H50: - | I50: - | J50: - | K50: - | L50: -
O55: To Contents

Sheet X3 - General explanation
B6: Table X3
B7: General explanation | C7: General practice in Danish market
B8: Table A
B9: Total Balance Sheet Assets | C9: Total balance sheet assets as reported in the interim or annual reports of the issuer, fair value
B10: Total Customer Loans(fair value) | C10: All mortgage credit loans funded by the issue of covered mortgage bonds or mortgage bonds measured at fair value
B11: Tier 1 Ratio (%) | C11: The tier 1 capital ratio as stipulated in DFSA regulations
B12: Solvency Ratio (%) | C12: The solvency ratio as stipulated in DFSA regulations
B13: Outstanding Covered Bonds (fair value) | C13: The circulating amount of covered bonds (including covered mortgage bonds and mortgage bonds)
B14: Outstanding Senior Unsecured Liabilities | C14: All outstanding senior unsecured liabilities including any intra-group senior unsecured liabilities to finance OC- and LTV-ratio requirements
B15: Senior Secured Bonds | C15: Senior secured bonds - formerly known as JCB (§ 15)
B16: Guarantees (e.g. provided by states, municipals, banks) | C16: All guarantees backing the granted loans provided by e.g. states, municipalities or banks
B17: Net loan losses (Net loan losses and net loan loss provisions) | C17: The item taken from the issuer´s profit & loss account
B18: Value of acquired properties / ships (temporary possessions, end quarter) | C18: Value as entered in interim and annual reports and as reported to the DFSA; The lower of the carrying amount at the time of classification and the fair value less selling costs.
B19: Total customer loans (market value) | C19: All mortgage credit loans funded by the issue of covered mortgage bonds or mortgage bonds measured at market value
B20: Maturity | C20: Maturity distribution of all mortgage credit loans
... B24: General explanation | C24: General practice in Danish market
B25: Table G1.1
B26: Nominal cover pool (total value) | C26: Sum of nominal value of covered bonds + Senior secured debt + capital. Capital is: Additional tier 1 capital (e.g. hybrid core capital) and Core tier 1 capital
B27: Overcollateralisation | C27: Total value of cover pool - nominal value of covered bonds
B28: Senior secured debt | C28: Total nominal value of senior secured debt
B29: Senior unsecured debt | C29: Issuers senior unsecured liabilities targeted to finance OC- and LTV-ratio requirements in cover pool
B30: Tier 2 capital | C30: Subordinated debt
B31: Additional tier 1 capital (e.g. hybrid core capital) | C31: Hybrid Tier 1 capital (perpetual debt instruments).
B32: Core tier 1 capital | C32: Equity capital and retained earnings.
B34: General explanation | C34: General practice in Danish market | D34: The issuer can elaborate on the applied balance priciple.
B35: Table G3 | D35: E.g. describe if stricter pratice is applied than required by law
B36: General balance principle | C36: The general balance principle does not require a one-to-one balance between the loan and the bonds issued. This gives the credit institution a wider scope for taking liquidity risk than the more strict specific balance principle.
B37: Specific balance principle | C37: The specific balance principle ensures a one-to-one balance between loans and bonds issued, and is used for the issuance of SDRO, SDO and RO bonds. The specific balance principle de facto implies full cash flow pass through from borrowers to investors. Under this principle daily loan origination is continuously tapped into the market, and the individual borrower loan rate is determined directly by the bond sales price for the corresponding financing amount of bonds. All borrower payments of interest and principal match the interest and principal payments to investors exactly (borrower payments fall due one day prior to the payments to investors). Redemptions take place by borrowers' buy back of the financing bond in the market at market price, or (for callable bonds) by calling the bond at par. In the latter case the borrower prepayment match the bond draw down. Market risks are thus eliminated under this issuance model (i.e. interest rate risk, prepayment risks, liquidity risks and funding risks). Further, asset substitution is not possible under this issuance model.
B39: General explanation | C39: General practice in Danish market
B40: Table G4
B41: One-to-one balance between terms of granted loans and bonds issued, i.e. daily tap issuance? | C41: Mortgage banks issue and sell bonds to investors, who then fund the loans. During the loan terms, borrowers make principal and interest payments to mortgage banks which transfer the amounts to investors. Mortgage banks charge a margin from the borrower to cover daily operating costs, potential losses, and to make a profit. The margin is a percentage of the outstanding debt which the borrower pays throughout the loan term. The margin rate corresponds to the interest margin of a bank but is generally lower. The issuance is made on a daily basis.
B42: Pass-through cash flow from borrowers to investors? | C42: Yes, the mortgage bank is an intermediary between persons requiring loans for the purchase of real properties and investors funding the loans by purchasing bonds.
B43: Asset substitution in cover pool allowed? | C43: No, (due to Danish legislation) asset substitution is not allowed/possible.
B45: General explanation | C45: General practice in Danish market
B46: Table M1-M5
B47: Owner-occupied homes | C47: Private owned residentials used by the owner, Max LTV are 80 % (legislation).
B48: Holiday houses | C48: Holiday houses for owners own use or for renting. Max LTV are 60 % (legislation).
B49: Subsidised Housing | C49: Residential renting subsidesed by the goverment. Max LTV 80 %. LTVs above 80 % can be granted against full govermental guarantee,
B50: Cooperative Housing | C50: Residential property owned and administreted by the coopereative and used by the members of the cooperative. Max LTV 80 % (legislation).
B51: Private rental | C51: Residential property rentes out to private tenants. Max LTV 80 % (legislation).
...

Sheet E. Optional ECB-ECAIs data
A1: This addendum is optional
A2: E. Harmonised Transparency Template - Optional ECB - ECAIs Data Disclosure | F2: HTT 2024
B4: Reporting in Domestic Currency | C4: [Please insert currency] | I4: Reason for No Data in Worksheet E. | J4: Value
I5: Not applicable for the jurisdiction | J5: ND1
B6: CONTENT OF TAB E | I6: Not relevant for the issuer and/or CB programme at the present time | J6: ND2
B7: 1. Additional information on the programme | I7: Not available at the present time | J7: ND3
B8: 2. Additional information on the swaps | I8: Confidential | J8: ND4
B9: 3. Additional information on the asset distribution
I10: * Legal Entity Identifier (LEI) finder: http://www.lei-lookup.com/#!search
I11: ** Weighted Average Maturity = Remaining Term to Maturity
A12: Field Number | B12: 1. Additional information on the programme
B13: Transaction Counterparties | C13: Name | D13: Legal Entity Identifier (LEI)*
A14: E.1.1.1 | B14: Sponsor (if applicable) | C14: ND2 | D14: ND2
A15: E.1.1.2 | B15: Servicer | C15: DanskeBankA/S | D15: MAES062Z21O4RZ2U7M96
A16: E.1.1.3 | B16: Back-up servicer | C16: ND2 | D16: ND2
A17: E.1.1.4 | B17: BUS facilitator | C17: ND2 | D17: ND2
A18: E.1.1.5 | B18: Cash manager | C18: DanskeBankA/S | D18: MAES062Z21O4RZ2U7M96
A19: E.1.1.6 | B19: Back-up cash manager | C19: ND2 | D19: ND2
A20: E.1.1.7 | B20: Account bank | C20: DanskeBankA/S | D20: MAES062Z21O4RZ2U7M96
A21: E.1.1.8 | B21: Standby account bank | C21: ND2 | D21: ND2
A22: E.1.1.9 | B22: Account bank guarantor | C22: ND2 | D22: ND2
A23: E.1.1.10 | B23: Trustee | C23: ND2 | D23: ND2
A24: E.1.1.11 | B24: Cover Pool Monitor | C24: DanskeBankA/S | D24: MAES062Z21O4RZ2U7M96
A25: OE.1.1.1 | B25: where applicable - paying agent
A26: OE.1.1.2
A27: OE.1.1.3
A28: OE.1.1.4
A29: OE.1.1.5
A30: OE.1.1.6
A31: OE.1.1.7
A32: OE.1.1.8
B33: 2. Additional information on the swaps
B34: Swap Counterparties | C34: Guarantor (if applicable) | D34: Legal Entity Identifier (LEI)* | E34: Type of Swap
A35: E.2.1.1 | B35: Danske Bank A/S | C35: ND2 | D35: MAES062Z21O4RZ2U7M96 | E35: FX, IRS
A36: E.2.1.2 | B36: Counterparty 2
A37: E.2.1.3 | B37: Counterparty 3
A38: E.2.1.4 | B38: Counterparty 4
A39: E.2.1.5 | B39: Counterparty 5
A40: E.2.1.6 | B40: Counterparty 6
A41: E.2.1.7 | B41: Counterparty 7
...

Sheet F1. Sustainable M data
A1: F1. Harmonised Transparency Template - Sustainable Mortgage Data | F1: HTT 2024
B3: Reporting in Domestic Currency | C3: [Please insert currency]
B5: CONTENT OF TAB F1
B6: 1. Share of sustainable loans in the total mortgage program
B7: 2. Additional information on the sustainable section of the mortgage stock
B8: 2A. Sustainable Residential Cover Pool
B9: 2B. Sustainable Commercial Cover Pool
B13: 1. Share of sustainable loans in the total mortgage program
B14: 1. Amount of sustainable loans | C14: Nominal (mn) | D14: Number of loans | F14: % Nominal (mn) to total mortgage program | G14: % No. of Loans to total mortgage program
A15: SM.1.1.1 | B15: EE mortgage loans | F15: =IF(OR('B1. HTT Mortgage Assets'!$C$15=0,C15="[For completion]"),"",C15/'B1. HTT Mortgage Assets'!$C$15) -> 0 | G15: =IF(OR('B1. HTT Mortgage Assets'!$F$28=0,D15="[For completion]"),"",D15/'B1. HTT Mortgage Assets'!$F$28) -> 0
A16: SM.1.1.2 | B16: Social impact mortgage loans | F16: =IF(OR('B1. HTT Mortgage Assets'!$C$15=0,C16="[For completion]"),"",C16/'B1. HTT Mortgage Assets'!$C$15) -> 0 | G16: =IF(OR('B1. HTT Mortgage Assets'!$F$28=0,D16="[For completion]"),"",D16/'B1. HTT Mortgage Assets'!$F$28) -> 0
A17: SM.1.1.3 | B17: other | F17: =IF(OR('B1. HTT Mortgage Assets'!$C$15=0,C17="[For completion]"),"",C17/'B1. HTT Mortgage Assets'!$C$15) -> 0 | G17: =IF(OR('B1. HTT Mortgage Assets'!$F$28=0,D17="[For completion]"),"",D17/'B1. HTT Mortgage Assets'!$F$28) -> 0
A18: SM.1.1.4 | B18: Total sustainable mortgage loans | C18: =SUM(C15:C17) -> 0 | D18: =SUM(D15:D17) -> 0 | F18: =SUM(F15:F17) -> 0 | G18: =SUM(G15:G17) -> 0
A19: OSM.1.1.1 | B19: o/w [If relevant, please specify]
A20: OSM.1.1.2 | B20: o/w [If relevant, please specify]
A21: OSM.1.1.3 | B21: o/w [If relevant, please specify]
A22: OSM.1.1.4 | B22: o/w [If relevant, please specify]
A23: OSM.1.1.5 | B23: o/w [If relevant, please specify]
B24: 2. Additional information on the sustainable section of the mortgage stock
B25: 1. Sustainable Property Type Information | C25: Nominal (mn) | F25: % Total sustainable Mortgages
A26: SM.2.1.1 | B26: Residential | F26: =IF($C$29=0,"",IF(C26="[For completion]","",C26/$C$29))
A27: SM.2.1.2 | B27: Commercial | F27: =IF($C$29=0,"",IF(C27="[For completion]","",C27/$C$29))
A28: SM.2.1.3 | B28: Other | F28: =IF($C$29=0,"",IF(C28="[For completion]","",C28/$C$29))
A29: SM.2.1.4 | B29: Total | C29: =SUM(C26:C28) -> 0 | F29: =SUM(F26:F28) -> 0
A30: OSM.2.1.1 | B30: o/w Forest & Agriculture | F30: =IF($C$29=0,"",IF(C30="[For completion]","",C30/$C$29))
A31: OSM.2.1.2 | B31: o/w EE residential | F31: =IF($C$29=0,"",IF(C31="[For completion]","",C31/$C$29))
A32: OSM.2.1.3 | B32: o/w EE commercial | F32: =IF($C$29=0,"",IF(C32="[For completion]","",C32/$C$29))
A33: OSM.2.1.4 | B33: o/w EE other | F33: =IF($C$29=0,"",IF(C33="[For completion]","",C33/$C$29))
A34: OSM.2.1.5 | B34: EE total | F34: =IF($C$29=0,"",IF(C34="[For completion]","",C34/$C$29))
A35: OSM.2.1.6 | B35: o/w Social residential | F35: =IF($C$29=0,"",IF(C35="[For completion]","",C35/$C$29))
A36: OSM.2.1.7 | B36: o/wSocial Commercial | F36: =IF($C$29=0,"",IF(C36="[For completion]","",C36/$C$29))
A37: OSM.2.1.8 | B37: o/w social other | F37: =IF($C$29=0,"",IF(C37="[For completion]","",C37/$C$29))
A38: OSM.2.1.9 | B38: social tot | F38: =IF($C$29=0,"",IF(C38="[For completion]","",C38/$C$29))
A39: OSM.2.1.10 | B39: o/w Renewable Energy and Renewable Energy Transmission
A40: OSM.2.1.11 | B40: o/w [If relevant, please specify]
A41: OSM.2.1.12 | B41: o/w [If relevant, please specify]
A42: OSM.2.1.13 | B42: o/w [If relevant, please specify]
A43: OSM.2.1.14 | B43: o/w [If relevant, please specify]
A44: OSM.2.1.15 | B44: o/w [If relevant, please specify]
A45: OSM.2.1.16 | B45: o/w [If relevant, please specify]
...

Sheet G1. Crisis M Payment Holidays
A1: This addendum is optional
A2: G1. Crisis Mortgage Payment Holidays | F2: HTT 2024
B5: Reporting in Domestic Currency | C5: [Please insert currency] | E5: For further information concerning the nation-specific dispositions regarging the impact of the Covid 19 outbreak on cover pools, please refer to the: | G5: COVID-19: EMF-ECBC Response
B7: CONTENT OF Temporary Tab | E7: Optional further information at issuer/country level
B8: 1. Share of assets affected by payment holidays caused by COVID 19
B9: 2. Additional information on the cover pool section affected by payment holidays
E13: Can the COVID-19 related payment holiday loans remain part of the cover pool? | G13: [YES/NO] (cancel what is not relevant)
B15: 1. Share of cover assets affected at the time of reporting by payment holidays caused exclusively by COVID 19
B16: 1. Breakdown of payment holiday | C16: Nominal (mn) | D16: Number of loans | F16: % Nominal (mn) to total cover pool | G16: % No. of Loans to total cover pool
A17: COV.1.1.1 | B17: payment holiday granted | F17: =IF(OR('B1. HTT Mortgage Assets'!$C$15=0,C17="[For completion]"),"",C17/'B1. HTT Mortgage Assets'!$C$15) -> 0 | G17: =IF(OR('B1. HTT Mortgage Assets'!$F$28=0,D17="[For completion]"),"",D17/'B1. HTT Mortgage Assets'!$F$28) -> 0
A18: OCOV.1.1.2
A19: OCOV.1.1.3
B20: 2. Additional information on the cover pool section affected by payment holidays
B21: 1. types of granted payment holiday (original duration) | C21: 1 month | D21: 2 months | E21: 3 months | F21: 4 to 6 months | G21: over 6 months | H21: total
B22: in % nominal (mn) of affected notional amount to total cover pool
